BEGIN:VCALENDAR
VERSION:2.0
PRODID:-//Berkeley Senior Services - ECPv6.15.20//NONSGML v1.0//EN
CALSCALE:GREGORIAN
METHOD:PUBLISH
X-ORIGINAL-URL:https://www.berkeleyseniorservices.org
X-WR-CALDESC:Events for Berkeley Senior Services
REFRESH-INTERVAL;VALUE=DURATION:PT1H
X-Robots-Tag:noindex
X-PUBLISHED-TTL:PT1H
BEGIN:VTIMEZONE
TZID:America/New_York
BEGIN:DAYLIGHT
TZOFFSETFROM:-0500
TZOFFSETTO:-0400
TZNAME:EDT
DTSTART:20230312T070000
END:DAYLIGHT
BEGIN:STANDARD
TZOFFSETFROM:-0400
TZOFFSETTO:-0500
TZNAME:EST
DTSTART:20231105T060000
END:STANDARD
BEGIN:DAYLIGHT
TZOFFSETFROM:-0500
TZOFFSETTO:-0400
TZNAME:EDT
DTSTART:20240310T070000
END:DAYLIGHT
BEGIN:STANDARD
TZOFFSETFROM:-0400
TZOFFSETTO:-0500
TZNAME:EST
DTSTART:20241103T060000
END:STANDARD
BEGIN:DAYLIGHT
TZOFFSETFROM:-0500
TZOFFSETTO:-0400
TZNAME:EDT
DTSTART:20250309T070000
END:DAYLIGHT
BEGIN:STANDARD
TZOFFSETFROM:-0400
TZOFFSETTO:-0500
TZNAME:EST
DTSTART:20251102T060000
END:STANDARD
BEGIN:DAYLIGHT
TZOFFSETFROM:-0500
TZOFFSETTO:-0400
TZNAME:EDT
DTSTART:20260308T070000
END:DAYLIGHT
BEGIN:STANDARD
TZOFFSETFROM:-0400
TZOFFSETTO:-0500
TZNAME:EST
DTSTART:20261101T060000
END:STANDARD
END:VTIMEZONE
BEGIN:VEVENT
DTSTART;TZID=America/New_York:20250501T100000
DTEND;TZID=America/New_York:20250501T110000
DTSTAMP:20260421T003223
CREATED:20250423T171159Z
LAST-MODIFIED:20250423T171159Z
UID:1918-1746093600-1746097200@www.berkeleyseniorservices.org
SUMMARY:Bingocize
DESCRIPTION:
URL:https://www.berkeleyseniorservices.org/event/bingocize-9/
CATEGORIES:activities,Event
END:VEVENT
BEGIN:VEVENT
DTSTART;TZID=America/New_York:20250501T113000
DTEND;TZID=America/New_York:20250501T153000
DTSTAMP:20260421T003223
CREATED:20250423T171342Z
LAST-MODIFIED:20250423T171342Z
UID:1921-1746099000-1746113400@www.berkeleyseniorservices.org
SUMMARY:Duplicate Bridge
DESCRIPTION:
URL:https://www.berkeleyseniorservices.org/event/duplicate-bridge-10/
CATEGORIES:activities,Event
END:VEVENT
BEGIN:VEVENT
DTSTART;TZID=America/New_York:20250501T130000
DTEND;TZID=America/New_York:20250501T150000
DTSTAMP:20260421T003223
CREATED:20250423T171540Z
LAST-MODIFIED:20250423T171540Z
UID:1924-1746104400-1746111600@www.berkeleyseniorservices.org
SUMMARY:Senior Quilt Club
DESCRIPTION:
URL:https://www.berkeleyseniorservices.org/event/senior-quilt-club-8/
CATEGORIES:activities,Event
END:VEVENT
BEGIN:VEVENT
DTSTART;TZID=America/New_York:20250502T090000
DTEND;TZID=America/New_York:20250502T110000
DTSTAMP:20260421T003223
CREATED:20250423T172402Z
LAST-MODIFIED:20250423T172402Z
UID:1934-1746176400-1746183600@www.berkeleyseniorservices.org
SUMMARY:Ping Pong
DESCRIPTION:
URL:https://www.berkeleyseniorservices.org/event/ping-pong-18/
CATEGORIES:activities,Event
END:VEVENT
BEGIN:VEVENT
DTSTART;TZID=America/New_York:20250502T100000
DTEND;TZID=America/New_York:20250502T100000
DTSTAMP:20260421T003223
CREATED:20250423T174040Z
LAST-MODIFIED:20250423T174040Z
UID:1943-1746180000-1746180000@www.berkeleyseniorservices.org
SUMMARY:Senior Prom
DESCRIPTION:
URL:https://www.berkeleyseniorservices.org/event/senior-prom/
CATEGORIES:activities,Event
END:VEVENT
BEGIN:VEVENT
DTSTART;TZID=America/New_York:20250502T130000
DTEND;TZID=America/New_York:20250502T150000
DTSTAMP:20260421T003223
CREATED:20250423T173243Z
LAST-MODIFIED:20250423T173243Z
UID:1937-1746190800-1746198000@www.berkeleyseniorservices.org
SUMMARY:Pinochle
DESCRIPTION:
URL:https://www.berkeleyseniorservices.org/event/pinochle-16/
CATEGORIES:activities,Event
END:VEVENT
BEGIN:VEVENT
DTSTART;TZID=America/New_York:20250502T130000
DTEND;TZID=America/New_York:20250502T150000
DTSTAMP:20260421T003223
CREATED:20250423T173850Z
LAST-MODIFIED:20250423T173850Z
UID:1940-1746190800-1746198000@www.berkeleyseniorservices.org
SUMMARY:Line Dancing
DESCRIPTION:
URL:https://www.berkeleyseniorservices.org/event/line-dancing-27/
CATEGORIES:activities,Event
END:VEVENT
BEGIN:VEVENT
DTSTART;TZID=America/New_York:20250505T092000
DTEND;TZID=America/New_York:20250505T095000
DTSTAMP:20260421T003223
CREATED:20250423T175438Z
LAST-MODIFIED:20250423T175438Z
UID:1961-1746436800-1746438600@www.berkeleyseniorservices.org
SUMMARY:Drum Ball
DESCRIPTION:
URL:https://www.berkeleyseniorservices.org/event/drum-ball-26/
CATEGORIES:activities,Event
END:VEVENT
BEGIN:VEVENT
DTSTART;TZID=America/New_York:20250505T100000
DTEND;TZID=America/New_York:20250505T111500
DTSTAMP:20260421T003223
CREATED:20250423T175654Z
LAST-MODIFIED:20250423T175654Z
UID:1966-1746439200-1746443700@www.berkeleyseniorservices.org
SUMMARY:Bingo
DESCRIPTION:
URL:https://www.berkeleyseniorservices.org/event/bingo-32/
CATEGORIES:activities,Event
END:VEVENT
BEGIN:VEVENT
DTSTART;TZID=America/New_York:20250505T110000
DTEND;TZID=America/New_York:20250505T130000
DTSTAMP:20260421T003223
CREATED:20250423T175746Z
LAST-MODIFIED:20250423T175746Z
UID:1969-1746442800-1746450000@www.berkeleyseniorservices.org
SUMMARY:Ping Pong
DESCRIPTION:
URL:https://www.berkeleyseniorservices.org/event/ping-pong-19/
CATEGORIES:activities,Event
END:VEVENT
BEGIN:VEVENT
DTSTART;TZID=America/New_York:20250505T120000
DTEND;TZID=America/New_York:20250505T153000
DTSTAMP:20260421T003223
CREATED:20250423T175909Z
LAST-MODIFIED:20250423T175909Z
UID:1971-1746446400-1746459000@www.berkeleyseniorservices.org
SUMMARY:Pinochle
DESCRIPTION:
URL:https://www.berkeleyseniorservices.org/event/pinochle-17/
CATEGORIES:activities,Event
END:VEVENT
BEGIN:VEVENT
DTSTART;TZID=America/New_York:20250505T130000
DTEND;TZID=America/New_York:20250505T140000
DTSTAMP:20260421T003223
CREATED:20250423T180013Z
LAST-MODIFIED:20250423T180013Z
UID:1974-1746450000-1746453600@www.berkeleyseniorservices.org
SUMMARY:Chair Yoga
DESCRIPTION:
URL:https://www.berkeleyseniorservices.org/event/chair-yoga-9/
CATEGORIES:activities,Event
END:VEVENT
BEGIN:VEVENT
DTSTART;TZID=America/New_York:20250505T140000
DTEND;TZID=America/New_York:20250505T150000
DTSTAMP:20260421T003223
CREATED:20250423T180156Z
LAST-MODIFIED:20250423T180156Z
UID:1977-1746453600-1746457200@www.berkeleyseniorservices.org
SUMMARY:Drum Ball
DESCRIPTION:
URL:https://www.berkeleyseniorservices.org/event/drum-ball-27/
CATEGORIES:activities,Event
END:VEVENT
BEGIN:VEVENT
DTSTART;TZID=America/New_York:20250506T090000
DTEND;TZID=America/New_York:20250506T100000
DTSTAMP:20260421T003223
CREATED:20250423T180644Z
LAST-MODIFIED:20250423T180644Z
UID:1982-1746522000-1746525600@www.berkeleyseniorservices.org
SUMMARY:Traditional Yoga
DESCRIPTION:
URL:https://www.berkeleyseniorservices.org/event/traditional-yoga-9/
CATEGORIES:activities,Event
END:VEVENT
BEGIN:VEVENT
DTSTART;TZID=America/New_York:20250506T090000
DTEND;TZID=America/New_York:20250506T100000
DTSTAMP:20260421T003223
CREATED:20250423T181413Z
LAST-MODIFIED:20250423T181413Z
UID:1994-1746522000-1746525600@www.berkeleyseniorservices.org
SUMMARY:Devotion with Ginger
DESCRIPTION:
URL:https://www.berkeleyseniorservices.org/event/devotion-with-ginger-2/
CATEGORIES:activities,Event
END:VEVENT
BEGIN:VEVENT
DTSTART;TZID=America/New_York:20250506T100000
DTEND;TZID=America/New_York:20250506T110000
DTSTAMP:20260421T003223
CREATED:20250423T180833Z
LAST-MODIFIED:20250423T180833Z
UID:1985-1746525600-1746529200@www.berkeleyseniorservices.org
SUMMARY:Fun & Fitness
DESCRIPTION:
URL:https://www.berkeleyseniorservices.org/event/fun-fitness-7/
CATEGORIES:activities,Event
END:VEVENT
BEGIN:VEVENT
DTSTART;TZID=America/New_York:20250506T110000
DTEND;TZID=America/New_York:20250506T113000
DTSTAMP:20260421T003223
CREATED:20250423T181028Z
LAST-MODIFIED:20250423T181028Z
UID:1988-1746529200-1746531000@www.berkeleyseniorservices.org
SUMMARY:Dance Fitness
DESCRIPTION:
URL:https://www.berkeleyseniorservices.org/event/dance-fitness-8/
CATEGORIES:activities,Event
END:VEVENT
BEGIN:VEVENT
DTSTART;TZID=America/New_York:20250506T130000
DTEND;TZID=America/New_York:20250506T150000
DTSTAMP:20260421T003223
CREATED:20250423T181137Z
LAST-MODIFIED:20250423T181137Z
UID:1991-1746536400-1746543600@www.berkeleyseniorservices.org
SUMMARY:Line Dancing
DESCRIPTION:
URL:https://www.berkeleyseniorservices.org/event/line-dancing-28/
CATEGORIES:activities,Event
END:VEVENT
BEGIN:VEVENT
DTSTART;TZID=America/New_York:20250507T092000
DTEND;TZID=America/New_York:20250507T095000
DTSTAMP:20260421T003223
CREATED:20250423T181918Z
LAST-MODIFIED:20250423T181918Z
UID:2001-1746609600-1746611400@www.berkeleyseniorservices.org
SUMMARY:Drum Ball
DESCRIPTION:
URL:https://www.berkeleyseniorservices.org/event/drum-ball-28/
CATEGORIES:activities,Event
END:VEVENT
BEGIN:VEVENT
DTSTART;TZID=America/New_York:20250507T093000
DTEND;TZID=America/New_York:20250507T113000
DTSTAMP:20260421T003223
CREATED:20250423T182342Z
LAST-MODIFIED:20250423T182342Z
UID:2010-1746610200-1746617400@www.berkeleyseniorservices.org
SUMMARY:Paint Day
DESCRIPTION:
URL:https://www.berkeleyseniorservices.org/event/paint-day-6/
CATEGORIES:activities,Event
END:VEVENT
BEGIN:VEVENT
DTSTART;TZID=America/New_York:20250507T100000
DTEND;TZID=America/New_York:20250507T111500
DTSTAMP:20260421T003223
CREATED:20250423T182214Z
LAST-MODIFIED:20250423T182214Z
UID:2004-1746612000-1746616500@www.berkeleyseniorservices.org
SUMMARY:Bingo
DESCRIPTION:
URL:https://www.berkeleyseniorservices.org/event/bingo-33/
CATEGORIES:activities,Event
END:VEVENT
BEGIN:VEVENT
DTSTART;TZID=America/New_York:20250507T130000
DTEND;TZID=America/New_York:20250507T150000
DTSTAMP:20260421T003223
CREATED:20250423T182319Z
LAST-MODIFIED:20250423T182319Z
UID:2007-1746622800-1746630000@www.berkeleyseniorservices.org
SUMMARY:Line Dancing
DESCRIPTION:
URL:https://www.berkeleyseniorservices.org/event/line-dancing-29/
CATEGORIES:activities,Event
END:VEVENT
BEGIN:VEVENT
DTSTART;TZID=America/New_York:20240313T130000
DTEND;TZID=America/New_York:20240313T160000
DTSTAMP:20260421T003223
CREATED:20240228T045637Z
LAST-MODIFIED:20240228T045637Z
UID:816-1710334800-1710345600@www.berkeleyseniorservices.org
SUMMARY:Chess Club
DESCRIPTION:
URL:https://www.berkeleyseniorservices.org/event/chess-club/
CATEGORIES:activities,Event
END:VEVENT
BEGIN:VEVENT
DTSTART;TZID=America/New_York:20250501T100000
DTEND;TZID=America/New_York:20250501T110000
DTSTAMP:20260421T003223
CREATED:20250423T171159Z
LAST-MODIFIED:20250423T171159Z
UID:1918-1746093600-1746097200@www.berkeleyseniorservices.org
SUMMARY:Bingocize
DESCRIPTION:
URL:https://www.berkeleyseniorservices.org/event/bingocize-9/
CATEGORIES:activities,Event
END:VEVENT
BEGIN:VEVENT
DTSTART;TZID=America/New_York:20250508T100000
DTEND;TZID=America/New_York:20250508T113000
DTSTAMP:20260421T003223
CREATED:20250423T171934Z
LAST-MODIFIED:20250423T171934Z
UID:1928-1746698400-1746703800@www.berkeleyseniorservices.org
SUMMARY:Good News Gospel Bible Study
DESCRIPTION:
URL:https://www.berkeleyseniorservices.org/event/good-news-gospel-bible-study-6/
CATEGORIES:activities,Event
END:VEVENT
BEGIN:VEVENT
DTSTART;TZID=America/New_York:20250501T113000
DTEND;TZID=America/New_York:20250501T153000
DTSTAMP:20260421T003223
CREATED:20250423T171342Z
LAST-MODIFIED:20250423T171342Z
UID:1921-1746099000-1746113400@www.berkeleyseniorservices.org
SUMMARY:Duplicate Bridge
DESCRIPTION:
URL:https://www.berkeleyseniorservices.org/event/duplicate-bridge-10/
CATEGORIES:activities,Event
END:VEVENT
BEGIN:VEVENT
DTSTART;TZID=America/New_York:20250501T130000
DTEND;TZID=America/New_York:20250501T150000
DTSTAMP:20260421T003223
CREATED:20250423T171540Z
LAST-MODIFIED:20250423T171540Z
UID:1924-1746104400-1746111600@www.berkeleyseniorservices.org
SUMMARY:Senior Quilt Club
DESCRIPTION:
URL:https://www.berkeleyseniorservices.org/event/senior-quilt-club-8/
CATEGORIES:activities,Event
END:VEVENT
BEGIN:VEVENT
DTSTART;TZID=America/New_York:20250502T090000
DTEND;TZID=America/New_York:20250502T110000
DTSTAMP:20260421T003223
CREATED:20250423T172402Z
LAST-MODIFIED:20250423T172402Z
UID:1934-1746176400-1746183600@www.berkeleyseniorservices.org
SUMMARY:Ping Pong
DESCRIPTION:
URL:https://www.berkeleyseniorservices.org/event/ping-pong-18/
CATEGORIES:activities,Event
END:VEVENT
BEGIN:VEVENT
DTSTART;TZID=America/New_York:20250509T093000
DTEND;TZID=America/New_York:20250509T100000
DTSTAMP:20260421T003223
CREATED:20250423T174257Z
LAST-MODIFIED:20250423T174257Z
UID:1945-1746783000-1746784800@www.berkeleyseniorservices.org
SUMMARY:Chair Aerobics
DESCRIPTION:
URL:https://www.berkeleyseniorservices.org/event/chair-aerobics-11/
CATEGORIES:activities,Event
END:VEVENT
BEGIN:VEVENT
DTSTART;TZID=America/New_York:20250509T094500
DTEND;TZID=America/New_York:20250509T110000
DTSTAMP:20260421T003223
CREATED:20250423T174349Z
LAST-MODIFIED:20250423T174349Z
UID:1948-1746783900-1746788400@www.berkeleyseniorservices.org
SUMMARY:Bingo
DESCRIPTION:
URL:https://www.berkeleyseniorservices.org/event/bingo-30/
CATEGORIES:activities,Event
END:VEVENT
END:VCALENDAR