BEGIN:VCALENDAR
VERSION:2.0
PRODID:-//Berkeley Senior Services - ECPv6.15.20//NONSGML v1.0//EN
CALSCALE:GREGORIAN
METHOD:PUBLISH
X-WR-CALNAME:Berkeley Senior Services
X-ORIGINAL-URL:https://www.berkeleyseniorservices.org
X-WR-CALDESC:Events for Berkeley Senior Services
REFRESH-INTERVAL;VALUE=DURATION:PT1H
X-Robots-Tag:noindex
X-PUBLISHED-TTL:PT1H
BEGIN:VTIMEZONE
TZID:America/New_York
BEGIN:DAYLIGHT
TZOFFSETFROM:-0500
TZOFFSETTO:-0400
TZNAME:EDT
DTSTART:20230312T070000
END:DAYLIGHT
BEGIN:STANDARD
TZOFFSETFROM:-0400
TZOFFSETTO:-0500
TZNAME:EST
DTSTART:20231105T060000
END:STANDARD
BEGIN:DAYLIGHT
TZOFFSETFROM:-0500
TZOFFSETTO:-0400
TZNAME:EDT
DTSTART:20240310T070000
END:DAYLIGHT
BEGIN:STANDARD
TZOFFSETFROM:-0400
TZOFFSETTO:-0500
TZNAME:EST
DTSTART:20241103T060000
END:STANDARD
BEGIN:DAYLIGHT
TZOFFSETFROM:-0500
TZOFFSETTO:-0400
TZNAME:EDT
DTSTART:20250309T070000
END:DAYLIGHT
BEGIN:STANDARD
TZOFFSETFROM:-0400
TZOFFSETTO:-0500
TZNAME:EST
DTSTART:20251102T060000
END:STANDARD
END:VTIMEZONE
BEGIN:VEVENT
DTSTART;TZID=America/New_York:20241001T090000
DTEND;TZID=America/New_York:20241001T100000
DTSTAMP:20260420T225216
CREATED:20240827T184028Z
LAST-MODIFIED:20240827T184028Z
UID:1229-1727773200-1727776800@www.berkeleyseniorservices.org
SUMMARY:Bible Study
DESCRIPTION:
URL:https://www.berkeleyseniorservices.org/event/bible-study-3/
CATEGORIES:activities,Event
END:VEVENT
BEGIN:VEVENT
DTSTART;TZID=America/New_York:20241001T090000
DTEND;TZID=America/New_York:20241001T100000
DTSTAMP:20260420T225216
CREATED:20240827T184140Z
LAST-MODIFIED:20240827T184140Z
UID:1233-1727773200-1727776800@www.berkeleyseniorservices.org
SUMMARY:Traditional Yoga
DESCRIPTION:
URL:https://www.berkeleyseniorservices.org/event/traditional-yoga-3/
CATEGORIES:activities,Event
END:VEVENT
BEGIN:VEVENT
DTSTART;TZID=America/New_York:20241001T100000
DTEND;TZID=America/New_York:20241001T110000
DTSTAMP:20260420T225216
CREATED:20240827T184424Z
LAST-MODIFIED:20240827T184424Z
UID:1236-1727776800-1727780400@www.berkeleyseniorservices.org
SUMMARY:Fun & Fitness
DESCRIPTION:
URL:https://www.berkeleyseniorservices.org/event/fun-fitness/
CATEGORIES:activities,Event
END:VEVENT
BEGIN:VEVENT
DTSTART;TZID=America/New_York:20241001T110000
DTEND;TZID=America/New_York:20241001T113000
DTSTAMP:20260420T225216
CREATED:20240827T184551Z
LAST-MODIFIED:20240827T184551Z
UID:1239-1727780400-1727782200@www.berkeleyseniorservices.org
SUMMARY:Dance Fitness
DESCRIPTION:
URL:https://www.berkeleyseniorservices.org/event/dance-fitness-2/
CATEGORIES:activities,Event
END:VEVENT
BEGIN:VEVENT
DTSTART;TZID=America/New_York:20241001T130000
DTEND;TZID=America/New_York:20241001T150000
DTSTAMP:20260420T225216
CREATED:20240827T184854Z
LAST-MODIFIED:20240827T184854Z
UID:1242-1727787600-1727794800@www.berkeleyseniorservices.org
SUMMARY:Line Dancing
DESCRIPTION:
URL:https://www.berkeleyseniorservices.org/event/line-dancing-9/
CATEGORIES:activities,Event
END:VEVENT
BEGIN:VEVENT
DTSTART;TZID=America/New_York:20241002T092000
DTEND;TZID=America/New_York:20241002T215000
DTSTAMP:20260420T225216
CREATED:20240827T190250Z
LAST-MODIFIED:20240827T190250Z
UID:1247-1727860800-1727905800@www.berkeleyseniorservices.org
SUMMARY:Drum ball
DESCRIPTION:
URL:https://www.berkeleyseniorservices.org/event/drum-ball-7/
CATEGORIES:activities,Event
END:VEVENT
BEGIN:VEVENT
DTSTART;TZID=America/New_York:20241002T100000
DTEND;TZID=America/New_York:20241002T111500
DTSTAMP:20260420T225216
CREATED:20240827T190521Z
LAST-MODIFIED:20240827T190521Z
UID:1252-1727863200-1727867700@www.berkeleyseniorservices.org
SUMMARY:Bingo
DESCRIPTION:
URL:https://www.berkeleyseniorservices.org/event/bingo-11/
CATEGORIES:activities,Event
END:VEVENT
BEGIN:VEVENT
DTSTART;TZID=America/New_York:20241002T130000
DTEND;TZID=America/New_York:20241002T150000
DTSTAMP:20260420T225216
CREATED:20240827T190553Z
LAST-MODIFIED:20240827T190553Z
UID:1255-1727874000-1727881200@www.berkeleyseniorservices.org
SUMMARY:Line Dancing
DESCRIPTION:
URL:https://www.berkeleyseniorservices.org/event/line-dancing-10/
CATEGORIES:activities,Event
END:VEVENT
BEGIN:VEVENT
DTSTART;TZID=America/New_York:20241002T130000
DTEND;TZID=America/New_York:20241002T150000
DTSTAMP:20260420T225216
CREATED:20240827T190801Z
LAST-MODIFIED:20240827T190801Z
UID:1258-1727874000-1727881200@www.berkeleyseniorservices.org
SUMMARY:Knit and crochet
DESCRIPTION:
URL:https://www.berkeleyseniorservices.org/event/knit-and-crochet-3/
CATEGORIES:activities,Event
END:VEVENT
BEGIN:VEVENT
DTSTART;TZID=America/New_York:20241003T090000
DTEND;TZID=America/New_York:20241003T100000
DTSTAMP:20260420T225216
CREATED:20240827T191736Z
LAST-MODIFIED:20240827T191736Z
UID:1270-1727946000-1727949600@www.berkeleyseniorservices.org
SUMMARY:Bingocize
DESCRIPTION:
URL:https://www.berkeleyseniorservices.org/event/bingocize-3/
CATEGORIES:activities,Event
END:VEVENT
BEGIN:VEVENT
DTSTART;TZID=America/New_York:20241003T113000
DTEND;TZID=America/New_York:20241003T153000
DTSTAMP:20260420T225216
CREATED:20240827T191825Z
LAST-MODIFIED:20240827T191825Z
UID:1273-1727955000-1727969400@www.berkeleyseniorservices.org
SUMMARY:Duplicate Bridge
DESCRIPTION:
URL:https://www.berkeleyseniorservices.org/event/duplicate-bridge-4/
CATEGORIES:activities,Event
END:VEVENT
BEGIN:VEVENT
DTSTART;TZID=America/New_York:20241003T130000
DTEND;TZID=America/New_York:20241003T150000
DTSTAMP:20260420T225216
CREATED:20240827T191900Z
LAST-MODIFIED:20240827T191900Z
UID:1276-1727960400-1727967600@www.berkeleyseniorservices.org
SUMMARY:Senior Quilt Club
DESCRIPTION:
URL:https://www.berkeleyseniorservices.org/event/senior-quilt-club-2/
CATEGORIES:activities,Event
END:VEVENT
BEGIN:VEVENT
DTSTART;TZID=America/New_York:20241004T090000
DTEND;TZID=America/New_York:20241004T110000
DTSTAMP:20260420T225216
CREATED:20240827T192238Z
LAST-MODIFIED:20240827T192238Z
UID:1287-1728032400-1728039600@www.berkeleyseniorservices.org
SUMMARY:Ping-pong
DESCRIPTION:
URL:https://www.berkeleyseniorservices.org/event/ping-pong-6/
CATEGORIES:activities,Event
END:VEVENT
BEGIN:VEVENT
DTSTART;TZID=America/New_York:20241004T093000
DTEND;TZID=America/New_York:20241004T100000
DTSTAMP:20260420T225216
CREATED:20240827T192332Z
LAST-MODIFIED:20240827T192332Z
UID:1290-1728034200-1728036000@www.berkeleyseniorservices.org
SUMMARY:Chair Aerobics
DESCRIPTION:
URL:https://www.berkeleyseniorservices.org/event/chair-aerobics-4/
CATEGORIES:activities,Event
END:VEVENT
BEGIN:VEVENT
DTSTART;TZID=America/New_York:20241004T100000
DTEND;TZID=America/New_York:20241004T111500
DTSTAMP:20260420T225216
CREATED:20240827T192548Z
LAST-MODIFIED:20240827T192548Z
UID:1293-1728036000-1728040500@www.berkeleyseniorservices.org
SUMMARY:Bingo
DESCRIPTION:
URL:https://www.berkeleyseniorservices.org/event/bingo-12/
CATEGORIES:activities,Event
END:VEVENT
BEGIN:VEVENT
DTSTART;TZID=America/New_York:20241004T120000
DTEND;TZID=America/New_York:20241004T153000
DTSTAMP:20260420T225216
CREATED:20240827T192809Z
LAST-MODIFIED:20240827T192809Z
UID:1298-1728043200-1728055800@www.berkeleyseniorservices.org
SUMMARY:Pinochle
DESCRIPTION:
URL:https://www.berkeleyseniorservices.org/event/pinochle-4/
CATEGORIES:activities,Event
END:VEVENT
BEGIN:VEVENT
DTSTART;TZID=America/New_York:20241004T130000
DTEND;TZID=America/New_York:20241004T150000
DTSTAMP:20260420T225216
CREATED:20240827T192849Z
LAST-MODIFIED:20240827T192849Z
UID:1301-1728046800-1728054000@www.berkeleyseniorservices.org
SUMMARY:Line Dancing
DESCRIPTION:
URL:https://www.berkeleyseniorservices.org/event/line-dancing-11/
CATEGORIES:activities,Event
END:VEVENT
BEGIN:VEVENT
DTSTART;TZID=America/New_York:20241007T092000
DTEND;TZID=America/New_York:20241007T095000
DTSTAMP:20260420T225216
CREATED:20240827T193102Z
LAST-MODIFIED:20240827T193102Z
UID:1310-1728292800-1728294600@www.berkeleyseniorservices.org
SUMMARY:Drum ball
DESCRIPTION:
URL:https://www.berkeleyseniorservices.org/event/drum-ball-8/
CATEGORIES:activities,Event
END:VEVENT
BEGIN:VEVENT
DTSTART;TZID=America/New_York:20241007T093000
DTEND;TZID=America/New_York:20241007T113000
DTSTAMP:20260420T225216
CREATED:20240827T193214Z
LAST-MODIFIED:20240827T193214Z
UID:1316-1728293400-1728300600@www.berkeleyseniorservices.org
SUMMARY:Diabetes Class
DESCRIPTION:
URL:https://www.berkeleyseniorservices.org/event/diabetes-class-2/
CATEGORIES:activities,Event
END:VEVENT
BEGIN:VEVENT
DTSTART;TZID=America/New_York:20241007T100000
DTEND;TZID=America/New_York:20241007T111500
DTSTAMP:20260420T225216
CREATED:20240827T193300Z
LAST-MODIFIED:20240827T193300Z
UID:1319-1728295200-1728299700@www.berkeleyseniorservices.org
SUMMARY:Bingo
DESCRIPTION:
URL:https://www.berkeleyseniorservices.org/event/bingo-14/
CATEGORIES:activities,Event
END:VEVENT
BEGIN:VEVENT
DTSTART;TZID=America/New_York:20241007T110000
DTEND;TZID=America/New_York:20241007T130000
DTSTAMP:20260420T225216
CREATED:20240827T193355Z
LAST-MODIFIED:20240827T193355Z
UID:1322-1728298800-1728306000@www.berkeleyseniorservices.org
SUMMARY:Ping-pong
DESCRIPTION:
URL:https://www.berkeleyseniorservices.org/event/ping-pong-7/
CATEGORIES:activities,Event
END:VEVENT
BEGIN:VEVENT
DTSTART;TZID=America/New_York:20241007T120000
DTEND;TZID=America/New_York:20241007T153000
DTSTAMP:20260420T225216
CREATED:20240827T193443Z
LAST-MODIFIED:20240827T193443Z
UID:1325-1728302400-1728315000@www.berkeleyseniorservices.org
SUMMARY:Pinochle
DESCRIPTION:
URL:https://www.berkeleyseniorservices.org/event/pinochle-5/
CATEGORIES:activities,Event
END:VEVENT
BEGIN:VEVENT
DTSTART;TZID=America/New_York:20241007T130000
DTEND;TZID=America/New_York:20241007T140000
DTSTAMP:20260420T225216
CREATED:20240827T193536Z
LAST-MODIFIED:20240827T193536Z
UID:1328-1728306000-1728309600@www.berkeleyseniorservices.org
SUMMARY:Chair Yoga
DESCRIPTION:
URL:https://www.berkeleyseniorservices.org/event/chair-yoga-3/
CATEGORIES:activities,Event
END:VEVENT
BEGIN:VEVENT
DTSTART;TZID=America/New_York:20241007T140000
DTEND;TZID=America/New_York:20241007T150000
DTSTAMP:20260420T225216
CREATED:20240827T193135Z
LAST-MODIFIED:20240827T193135Z
UID:1313-1728309600-1728313200@www.berkeleyseniorservices.org
SUMMARY:Drum ball
DESCRIPTION:
URL:https://www.berkeleyseniorservices.org/event/drum-ball-9/
CATEGORIES:activities,Event
END:VEVENT
BEGIN:VEVENT
DTSTART;TZID=America/New_York:20241001T090000
DTEND;TZID=America/New_York:20241001T100000
DTSTAMP:20260420T225216
CREATED:20240827T184028Z
LAST-MODIFIED:20240827T184028Z
UID:1229-1727773200-1727776800@www.berkeleyseniorservices.org
SUMMARY:Bible Study
DESCRIPTION:
URL:https://www.berkeleyseniorservices.org/event/bible-study-3/
CATEGORIES:activities,Event
END:VEVENT
BEGIN:VEVENT
DTSTART;TZID=America/New_York:20241001T090000
DTEND;TZID=America/New_York:20241001T100000
DTSTAMP:20260420T225216
CREATED:20240827T184140Z
LAST-MODIFIED:20240827T184140Z
UID:1233-1727773200-1727776800@www.berkeleyseniorservices.org
SUMMARY:Traditional Yoga
DESCRIPTION:
URL:https://www.berkeleyseniorservices.org/event/traditional-yoga-3/
CATEGORIES:activities,Event
END:VEVENT
BEGIN:VEVENT
DTSTART;TZID=America/New_York:20241001T100000
DTEND;TZID=America/New_York:20241001T110000
DTSTAMP:20260420T225216
CREATED:20240827T184424Z
LAST-MODIFIED:20240827T184424Z
UID:1236-1727776800-1727780400@www.berkeleyseniorservices.org
SUMMARY:Fun & Fitness
DESCRIPTION:
URL:https://www.berkeleyseniorservices.org/event/fun-fitness/
CATEGORIES:activities,Event
END:VEVENT
BEGIN:VEVENT
DTSTART;TZID=America/New_York:20241008T100000
DTEND;TZID=America/New_York:20241008T110000
DTSTAMP:20260420T225216
CREATED:20240827T185957Z
LAST-MODIFIED:20240827T185957Z
UID:1245-1728381600-1728385200@www.berkeleyseniorservices.org
SUMMARY:Senior Singers
DESCRIPTION:
URL:https://www.berkeleyseniorservices.org/event/senior-singers-3/
CATEGORIES:activities,Event
END:VEVENT
BEGIN:VEVENT
DTSTART;TZID=America/New_York:20241001T110000
DTEND;TZID=America/New_York:20241001T113000
DTSTAMP:20260420T225216
CREATED:20240827T184551Z
LAST-MODIFIED:20240827T184551Z
UID:1239-1727780400-1727782200@www.berkeleyseniorservices.org
SUMMARY:Dance Fitness
DESCRIPTION:
URL:https://www.berkeleyseniorservices.org/event/dance-fitness-2/
CATEGORIES:activities,Event
END:VEVENT
BEGIN:VEVENT
DTSTART;TZID=America/New_York:20241001T130000
DTEND;TZID=America/New_York:20241001T150000
DTSTAMP:20260420T225216
CREATED:20240827T184854Z
LAST-MODIFIED:20240827T184854Z
UID:1242-1727787600-1727794800@www.berkeleyseniorservices.org
SUMMARY:Line Dancing
DESCRIPTION:
URL:https://www.berkeleyseniorservices.org/event/line-dancing-9/
CATEGORIES:activities,Event
END:VEVENT
END:VCALENDAR