BEGIN:VCALENDAR
VERSION:2.0
PRODID:-//Berkeley Senior Services - ECPv6.15.20//NONSGML v1.0//EN
CALSCALE:GREGORIAN
METHOD:PUBLISH
X-ORIGINAL-URL:https://www.berkeleyseniorservices.org
X-WR-CALDESC:Events for Berkeley Senior Services
REFRESH-INTERVAL;VALUE=DURATION:PT1H
X-Robots-Tag:noindex
X-PUBLISHED-TTL:PT1H
BEGIN:VTIMEZONE
TZID:America/New_York
BEGIN:DAYLIGHT
TZOFFSETFROM:-0500
TZOFFSETTO:-0400
TZNAME:EDT
DTSTART:20230312T070000
END:DAYLIGHT
BEGIN:STANDARD
TZOFFSETFROM:-0400
TZOFFSETTO:-0500
TZNAME:EST
DTSTART:20231105T060000
END:STANDARD
BEGIN:DAYLIGHT
TZOFFSETFROM:-0500
TZOFFSETTO:-0400
TZNAME:EDT
DTSTART:20240310T070000
END:DAYLIGHT
BEGIN:STANDARD
TZOFFSETFROM:-0400
TZOFFSETTO:-0500
TZNAME:EST
DTSTART:20241103T060000
END:STANDARD
BEGIN:DAYLIGHT
TZOFFSETFROM:-0500
TZOFFSETTO:-0400
TZNAME:EDT
DTSTART:20250309T070000
END:DAYLIGHT
BEGIN:STANDARD
TZOFFSETFROM:-0400
TZOFFSETTO:-0500
TZNAME:EST
DTSTART:20251102T060000
END:STANDARD
END:VTIMEZONE
BEGIN:VEVENT
DTSTART;VALUE=DATE:20240902
DTEND;VALUE=DATE:20240903
DTSTAMP:20260420T205334
CREATED:20240826T182230Z
LAST-MODIFIED:20240826T182230Z
UID:1116-1725235200-1725321599@www.berkeleyseniorservices.org
SUMMARY:Labor Day: BSS CLOSED
DESCRIPTION:
URL:https://www.berkeleyseniorservices.org/event/labor-day-bss-closed/
CATEGORIES:activities,Event
END:VEVENT
BEGIN:VEVENT
DTSTART;TZID=America/New_York:20240903T090000
DTEND;TZID=America/New_York:20240903T100000
DTSTAMP:20260420T205334
CREATED:20240826T173215Z
LAST-MODIFIED:20240826T173215Z
UID:1042-1725354000-1725357600@www.berkeleyseniorservices.org
SUMMARY:Bible Study
DESCRIPTION:
URL:https://www.berkeleyseniorservices.org/event/bible-study-2/
CATEGORIES:activities,Event
END:VEVENT
BEGIN:VEVENT
DTSTART;TZID=America/New_York:20240903T090000
DTEND;TZID=America/New_York:20240903T100000
DTSTAMP:20260420T205334
CREATED:20240826T173428Z
LAST-MODIFIED:20240826T173428Z
UID:1045-1725354000-1725357600@www.berkeleyseniorservices.org
SUMMARY:Traditional Yoga
DESCRIPTION:
URL:https://www.berkeleyseniorservices.org/event/traditional-yoga-2/
CATEGORIES:activities,Event
END:VEVENT
BEGIN:VEVENT
DTSTART;TZID=America/New_York:20240903T100000
DTEND;TZID=America/New_York:20240903T103000
DTSTAMP:20260420T205334
CREATED:20240826T173552Z
LAST-MODIFIED:20240826T173552Z
UID:1048-1725357600-1725359400@www.berkeleyseniorservices.org
SUMMARY:Fun and fitness
DESCRIPTION:
URL:https://www.berkeleyseniorservices.org/event/fun-and-fitness/
CATEGORIES:activities,Event
END:VEVENT
BEGIN:VEVENT
DTSTART;TZID=America/New_York:20240903T110000
DTEND;TZID=America/New_York:20240903T113000
DTSTAMP:20260420T205334
CREATED:20240826T173931Z
LAST-MODIFIED:20240826T174130Z
UID:1051-1725361200-1725363000@www.berkeleyseniorservices.org
SUMMARY:Dance Fitness
DESCRIPTION:
URL:https://www.berkeleyseniorservices.org/event/dance-fitness/
CATEGORIES:activities,Event
END:VEVENT
BEGIN:VEVENT
DTSTART;TZID=America/New_York:20240903T130000
DTEND;TZID=America/New_York:20240903T150000
DTSTAMP:20260420T205334
CREATED:20240826T174107Z
LAST-MODIFIED:20240826T174107Z
UID:1054-1725368400-1725375600@www.berkeleyseniorservices.org
SUMMARY:Line Dancing
DESCRIPTION:
URL:https://www.berkeleyseniorservices.org/event/line-dancing-6/
CATEGORIES:activities,Event
END:VEVENT
BEGIN:VEVENT
DTSTART;TZID=America/New_York:20240904T092000
DTEND;TZID=America/New_York:20240904T095000
DTSTAMP:20260420T205334
CREATED:20240826T174655Z
LAST-MODIFIED:20240826T174655Z
UID:1059-1725441600-1725443400@www.berkeleyseniorservices.org
SUMMARY:Drum ball
DESCRIPTION:
URL:https://www.berkeleyseniorservices.org/event/drum-ball-4/
CATEGORIES:activities,Event
END:VEVENT
BEGIN:VEVENT
DTSTART;TZID=America/New_York:20240904T100000
DTEND;TZID=America/New_York:20240904T111500
DTSTAMP:20260420T205334
CREATED:20240826T174858Z
LAST-MODIFIED:20240826T174858Z
UID:1062-1725444000-1725448500@www.berkeleyseniorservices.org
SUMMARY:Bingo
DESCRIPTION:
URL:https://www.berkeleyseniorservices.org/event/bingo-7/
CATEGORIES:activities,Event
END:VEVENT
BEGIN:VEVENT
DTSTART;TZID=America/New_York:20240904T130000
DTEND;TZID=America/New_York:20240904T150000
DTSTAMP:20260420T205334
CREATED:20240826T175119Z
LAST-MODIFIED:20240826T175119Z
UID:1065-1725454800-1725462000@www.berkeleyseniorservices.org
SUMMARY:Line Dancing
DESCRIPTION:
URL:https://www.berkeleyseniorservices.org/event/line-dancing-7/
CATEGORIES:activities,Event
END:VEVENT
BEGIN:VEVENT
DTSTART;TZID=America/New_York:20240904T130000
DTEND;TZID=America/New_York:20240904T150000
DTSTAMP:20260420T205334
CREATED:20240826T175157Z
LAST-MODIFIED:20240826T175157Z
UID:1068-1725454800-1725462000@www.berkeleyseniorservices.org
SUMMARY:Knit and Crochet
DESCRIPTION:
URL:https://www.berkeleyseniorservices.org/event/knit-and-crochet-2/
CATEGORIES:activities,Event
END:VEVENT
BEGIN:VEVENT
DTSTART;TZID=America/New_York:20240905T090000
DTEND;TZID=America/New_York:20240905T100000
DTSTAMP:20260420T205334
CREATED:20240826T175744Z
LAST-MODIFIED:20240826T175744Z
UID:1078-1725526800-1725530400@www.berkeleyseniorservices.org
SUMMARY:Bingocize
DESCRIPTION:
URL:https://www.berkeleyseniorservices.org/event/bingocize-2/
CATEGORIES:activities,Event
END:VEVENT
BEGIN:VEVENT
DTSTART;TZID=America/New_York:20240905T113000
DTEND;TZID=America/New_York:20240905T153000
DTSTAMP:20260420T205334
CREATED:20240826T175849Z
LAST-MODIFIED:20240826T175849Z
UID:1081-1725535800-1725550200@www.berkeleyseniorservices.org
SUMMARY:Duplicate Bridge
DESCRIPTION:
URL:https://www.berkeleyseniorservices.org/event/duplicate-bridge-2/
CATEGORIES:activities,Event
END:VEVENT
BEGIN:VEVENT
DTSTART;TZID=America/New_York:20240905T130000
DTEND;TZID=America/New_York:20240905T150000
DTSTAMP:20260420T205334
CREATED:20240826T180151Z
LAST-MODIFIED:20240826T180151Z
UID:1086-1725541200-1725548400@www.berkeleyseniorservices.org
SUMMARY:Senior Quilt Club
DESCRIPTION:
URL:https://www.berkeleyseniorservices.org/event/senior-quilt-club/
CATEGORIES:activities,Event
END:VEVENT
BEGIN:VEVENT
DTSTART;TZID=America/New_York:20240906T090000
DTEND;TZID=America/New_York:20240906T110000
DTSTAMP:20260420T205334
CREATED:20240826T180744Z
LAST-MODIFIED:20240826T180744Z
UID:1093-1725613200-1725620400@www.berkeleyseniorservices.org
SUMMARY:Ping-pong
DESCRIPTION:
URL:https://www.berkeleyseniorservices.org/event/ping-pong-4/
CATEGORIES:activities,Event
END:VEVENT
BEGIN:VEVENT
DTSTART;TZID=America/New_York:20240906T093000
DTEND;TZID=America/New_York:20240906T100000
DTSTAMP:20260420T205334
CREATED:20240826T181039Z
LAST-MODIFIED:20240826T181116Z
UID:1096-1725615000-1725616800@www.berkeleyseniorservices.org
SUMMARY:Chair Aerobics
DESCRIPTION:
URL:https://www.berkeleyseniorservices.org/event/chair-aerobics-2/
CATEGORIES:activities,Event
END:VEVENT
BEGIN:VEVENT
DTSTART;TZID=America/New_York:20240906T100000
DTEND;TZID=America/New_York:20240906T111500
DTSTAMP:20260420T205334
CREATED:20240826T181604Z
LAST-MODIFIED:20240826T181604Z
UID:1107-1725616800-1725621300@www.berkeleyseniorservices.org
SUMMARY:Bingo
DESCRIPTION:
URL:https://www.berkeleyseniorservices.org/event/bingo-8/
CATEGORIES:activities,Event
END:VEVENT
BEGIN:VEVENT
DTSTART;TZID=America/New_York:20240906T120000
DTEND;TZID=America/New_York:20240906T153000
DTSTAMP:20260420T205334
CREATED:20240826T181305Z
LAST-MODIFIED:20240826T181305Z
UID:1101-1725624000-1725636600@www.berkeleyseniorservices.org
SUMMARY:Pinochle
DESCRIPTION:
URL:https://www.berkeleyseniorservices.org/event/pinochle-2/
CATEGORIES:activities,Event
END:VEVENT
BEGIN:VEVENT
DTSTART;TZID=America/New_York:20240906T130000
DTEND;TZID=America/New_York:20240906T150000
DTSTAMP:20260420T205334
CREATED:20240826T181437Z
LAST-MODIFIED:20240826T181437Z
UID:1104-1725627600-1725634800@www.berkeleyseniorservices.org
SUMMARY:Line Dancing
DESCRIPTION:
URL:https://www.berkeleyseniorservices.org/event/line-dancing-8/
CATEGORIES:activities,Event
END:VEVENT
BEGIN:VEVENT
DTSTART;TZID=America/New_York:20240909T092000
DTEND;TZID=America/New_York:20240909T095000
DTSTAMP:20260420T205334
CREATED:20240826T182707Z
LAST-MODIFIED:20240826T182707Z
UID:1118-1725873600-1725875400@www.berkeleyseniorservices.org
SUMMARY:Drum ball
DESCRIPTION:
URL:https://www.berkeleyseniorservices.org/event/drum-ball-5/
CATEGORIES:activities,Event
END:VEVENT
BEGIN:VEVENT
DTSTART;TZID=America/New_York:20240909T100000
DTEND;TZID=America/New_York:20240909T113000
DTSTAMP:20260420T205334
CREATED:20240826T183343Z
LAST-MODIFIED:20240826T183343Z
UID:1124-1725876000-1725881400@www.berkeleyseniorservices.org
SUMMARY:Bingo
DESCRIPTION:
URL:https://www.berkeleyseniorservices.org/event/bingo-9/
CATEGORIES:activities,Event
END:VEVENT
BEGIN:VEVENT
DTSTART;TZID=America/New_York:20240909T110000
DTEND;TZID=America/New_York:20240909T130000
DTSTAMP:20260420T205334
CREATED:20240826T183437Z
LAST-MODIFIED:20240826T183437Z
UID:1127-1725879600-1725886800@www.berkeleyseniorservices.org
SUMMARY:Ping-pong
DESCRIPTION:
URL:https://www.berkeleyseniorservices.org/event/ping-pong-5/
CATEGORIES:activities,Event
END:VEVENT
BEGIN:VEVENT
DTSTART;TZID=America/New_York:20240909T120000
DTEND;TZID=America/New_York:20240909T153000
DTSTAMP:20260420T205334
CREATED:20240826T183540Z
LAST-MODIFIED:20240826T183540Z
UID:1130-1725883200-1725895800@www.berkeleyseniorservices.org
SUMMARY:Pinochle
DESCRIPTION:
URL:https://www.berkeleyseniorservices.org/event/pinochle-3/
CATEGORIES:activities,Event
END:VEVENT
BEGIN:VEVENT
DTSTART;TZID=America/New_York:20240909T130000
DTEND;TZID=America/New_York:20240909T140000
DTSTAMP:20260420T205334
CREATED:20240826T183724Z
LAST-MODIFIED:20240826T183724Z
UID:1133-1725886800-1725890400@www.berkeleyseniorservices.org
SUMMARY:Chair Yoga
DESCRIPTION:
URL:https://www.berkeleyseniorservices.org/event/chair-yoga-2/
CATEGORIES:activities,Event
END:VEVENT
BEGIN:VEVENT
DTSTART;TZID=America/New_York:20240909T140000
DTEND;TZID=America/New_York:20240909T150000
DTSTAMP:20260420T205334
CREATED:20240826T182939Z
LAST-MODIFIED:20240826T183013Z
UID:1121-1725890400-1725894000@www.berkeleyseniorservices.org
SUMMARY:Drum ball
DESCRIPTION:
URL:https://www.berkeleyseniorservices.org/event/drum-ball-6/
CATEGORIES:activities,Event
END:VEVENT
BEGIN:VEVENT
DTSTART;TZID=America/New_York:20240903T090000
DTEND;TZID=America/New_York:20240903T100000
DTSTAMP:20260420T205334
CREATED:20240826T173215Z
LAST-MODIFIED:20240826T173215Z
UID:1042-1725354000-1725357600@www.berkeleyseniorservices.org
SUMMARY:Bible Study
DESCRIPTION:
URL:https://www.berkeleyseniorservices.org/event/bible-study-2/
CATEGORIES:activities,Event
END:VEVENT
BEGIN:VEVENT
DTSTART;TZID=America/New_York:20240903T090000
DTEND;TZID=America/New_York:20240903T100000
DTSTAMP:20260420T205334
CREATED:20240826T173428Z
LAST-MODIFIED:20240826T173428Z
UID:1045-1725354000-1725357600@www.berkeleyseniorservices.org
SUMMARY:Traditional Yoga
DESCRIPTION:
URL:https://www.berkeleyseniorservices.org/event/traditional-yoga-2/
CATEGORIES:activities,Event
END:VEVENT
BEGIN:VEVENT
DTSTART;TZID=America/New_York:20240903T100000
DTEND;TZID=America/New_York:20240903T103000
DTSTAMP:20260420T205334
CREATED:20240826T173552Z
LAST-MODIFIED:20240826T173552Z
UID:1048-1725357600-1725359400@www.berkeleyseniorservices.org
SUMMARY:Fun and fitness
DESCRIPTION:
URL:https://www.berkeleyseniorservices.org/event/fun-and-fitness/
CATEGORIES:activities,Event
END:VEVENT
BEGIN:VEVENT
DTSTART;TZID=America/New_York:20240910T100000
DTEND;TZID=America/New_York:20240910T110000
DTSTAMP:20260420T205334
CREATED:20240826T174316Z
LAST-MODIFIED:20240826T174340Z
UID:1057-1725962400-1725966000@www.berkeleyseniorservices.org
SUMMARY:Senior Singers
DESCRIPTION:
URL:https://www.berkeleyseniorservices.org/event/senior-singers-2/
CATEGORIES:activities,Event
END:VEVENT
BEGIN:VEVENT
DTSTART;TZID=America/New_York:20240903T110000
DTEND;TZID=America/New_York:20240903T113000
DTSTAMP:20260420T205334
CREATED:20240826T173931Z
LAST-MODIFIED:20240826T174130Z
UID:1051-1725361200-1725363000@www.berkeleyseniorservices.org
SUMMARY:Dance Fitness
DESCRIPTION:
URL:https://www.berkeleyseniorservices.org/event/dance-fitness/
CATEGORIES:activities,Event
END:VEVENT
BEGIN:VEVENT
DTSTART;TZID=America/New_York:20240903T130000
DTEND;TZID=America/New_York:20240903T150000
DTSTAMP:20260420T205334
CREATED:20240826T174107Z
LAST-MODIFIED:20240826T174107Z
UID:1054-1725368400-1725375600@www.berkeleyseniorservices.org
SUMMARY:Line Dancing
DESCRIPTION:
URL:https://www.berkeleyseniorservices.org/event/line-dancing-6/
CATEGORIES:activities,Event
END:VEVENT
END:VCALENDAR