BEGIN:VCALENDAR
VERSION:2.0
PRODID:-//Berkeley Senior Services - ECPv6.15.20//NONSGML v1.0//EN
CALSCALE:GREGORIAN
METHOD:PUBLISH
X-ORIGINAL-URL:https://www.berkeleyseniorservices.org
X-WR-CALDESC:Events for Berkeley Senior Services
REFRESH-INTERVAL;VALUE=DURATION:PT1H
X-Robots-Tag:noindex
X-PUBLISHED-TTL:PT1H
BEGIN:VTIMEZONE
TZID:America/New_York
BEGIN:DAYLIGHT
TZOFFSETFROM:-0500
TZOFFSETTO:-0400
TZNAME:EDT
DTSTART:20230312T070000
END:DAYLIGHT
BEGIN:STANDARD
TZOFFSETFROM:-0400
TZOFFSETTO:-0500
TZNAME:EST
DTSTART:20231105T060000
END:STANDARD
BEGIN:DAYLIGHT
TZOFFSETFROM:-0500
TZOFFSETTO:-0400
TZNAME:EDT
DTSTART:20240310T070000
END:DAYLIGHT
BEGIN:STANDARD
TZOFFSETFROM:-0400
TZOFFSETTO:-0500
TZNAME:EST
DTSTART:20241103T060000
END:STANDARD
BEGIN:DAYLIGHT
TZOFFSETFROM:-0500
TZOFFSETTO:-0400
TZNAME:EDT
DTSTART:20250309T070000
END:DAYLIGHT
BEGIN:STANDARD
TZOFFSETFROM:-0400
TZOFFSETTO:-0500
TZNAME:EST
DTSTART:20251102T060000
END:STANDARD
END:VTIMEZONE
BEGIN:VEVENT
DTSTART;TZID=America/New_York:20240313T130000
DTEND;TZID=America/New_York:20240313T160000
DTSTAMP:20260420T151032
CREATED:20240228T045637Z
LAST-MODIFIED:20240228T045637Z
UID:816-1710334800-1710345600@www.berkeleyseniorservices.org
SUMMARY:Chess Club
DESCRIPTION:
URL:https://www.berkeleyseniorservices.org/event/chess-club/
CATEGORIES:activities,Event
END:VEVENT
BEGIN:VEVENT
DTSTART;TZID=America/New_York:20240511T130000
DTEND;TZID=America/New_York:20240511T150000
DTSTAMP:20260420T151032
CREATED:20240306T181227Z
LAST-MODIFIED:20240306T181227Z
UID:1024-1715432400-1715439600@www.berkeleyseniorservices.org
SUMMARY:Mother's Day Tea Fundraiser
DESCRIPTION:Come join us for the 2nd Annual Mother’s Day Tea\nFundraiser. Enjoy a large variety of teas\, savory\nsandwiches and delectable sweet treats. Cash in on the\n50/50 Raffle or try your luck at over 12 beautifully\ncrafted raffle baskets. Tickets go on sale March 18\, 2024
URL:https://www.berkeleyseniorservices.org/event/mothers-day-tea-fundraiser/
CATEGORIES:Event
ATTACH;FMTTYPE=application/pdf:https://www.berkeleyseniorservices.org/wp-content/uploads/2024/03/Mothers-Day-tea-2024.pdf
END:VEVENT
BEGIN:VEVENT
DTSTART;TZID=America/New_York:20240516T133000
DTEND;TZID=America/New_York:20240516T153000
DTSTAMP:20260420T151032
CREATED:20240301T210540Z
LAST-MODIFIED:20240301T210540Z
UID:1018-1715866200-1715873400@www.berkeleyseniorservices.org
SUMMARY:Understanding and Responding to Dementia-Related Behavior
DESCRIPTION:Behavior is a powerful form of communication and is one of the primary ways people living with dementia communicate their needs and feelings as the ability to use language is lost. However\, some behaviors can present real challenges for caregivers to manage. Join us to learn to decode behavioral messages\, identify common triggers\, and learn strategies to help manage some of the most common behavioral challenges of Alzheimer’s disease. We will also discuss caregiver stress and how to manage. \nRSVP Requested by May 9 by calling \n(304) 263-8873\, ext 4114 \n 
URL:https://www.berkeleyseniorservices.org/event/understanding-and-responding-to-dementia-related-behavior/
CATEGORIES:Event
ATTACH;FMTTYPE=image/png:https://www.berkeleyseniorservices.org/wp-content/uploads/2024/03/Screenshot-2024-03-01-at-4.03.44-PM.png
END:VEVENT
BEGIN:VEVENT
DTSTART;TZID=America/New_York:20240313T130000
DTEND;TZID=America/New_York:20240313T160000
DTSTAMP:20260420T151032
CREATED:20240228T045637Z
LAST-MODIFIED:20240228T045637Z
UID:816-1710334800-1710345600@www.berkeleyseniorservices.org
SUMMARY:Chess Club
DESCRIPTION:
URL:https://www.berkeleyseniorservices.org/event/chess-club/
CATEGORIES:activities,Event
END:VEVENT
END:VCALENDAR